BEGIN:VCALENDAR
PRODID:-//eluceo/ical//2.0/EN
VERSION:2.0
CALSCALE:GREGORIAN
BEGIN:VEVENT
UID:5672a4c12aebba8c0ebd4ed46ccd6aa3
DTSTAMP:20260424T113720Z
SUMMARY:Purim Party with Motown Themed Shpeil
DESCRIPTION:Jewish Federation of New Hampshire\nCommunity Calendar\nhttps:/
 /jewishnh.org/community-calendar/purim-party-with-motown-themed-sphiel-155
 1967511\n\nThe Etz Hayim (not quite ready for Broadway) Players will sing 
 and reenact the Purim story to the tunes of Motown.\nTo be followed by a f
 abulous dessert buffet and social hour. Desserts are pot luck.
DTSTART;TZID=America/New_York:20190323T190000
DTEND;TZID=America/New_York:20190323T213000
END:VEVENT
END:VCALENDAR
