BEGIN:VCALENDAR
PRODID:-//eluceo/ical//2.0/EN
VERSION:2.0
CALSCALE:GREGORIAN
BEGIN:VEVENT
UID:46d4f3c74f411cf65dfa00bbc56dd2fd
DTSTAMP:20260422T222608Z
SUMMARY:Purim Puppet Show
DESCRIPTION:Jewish Federation of New Hampshire\nCommunity Calendar\nhttps:/
 /jewishnh.org/community-calendar/purim-puppet-show\n\nYour family is invit
 ed to an old-fashioned 20 minute Purim puppet show on Zoom.\n\nDirected by
  Rabbi Donna Kirshbaum of Bethlehem Hebrew Congregation followed by megill
 ah\, shpiel\, Purim Torah.\n\nTo register contact bhcsynagogue1920@gmail.c
 om
DTSTART;TZID=America/New_York:20210228T140000
DTEND;TZID=America/New_York:20210228T160000
END:VEVENT
END:VCALENDAR
