BEGIN:VCALENDAR
PRODID:-//eluceo/ical//2.0/EN
VERSION:2.0
CALSCALE:GREGORIAN
BEGIN:VEVENT
UID:e95fdffc4bb4a801242ebabdb7952f94
DTSTAMP:20260423T114438Z
SUMMARY:Purim Service & Dinner
DESCRIPTION:Jewish Federation of New Hampshire\nCommunity Calendar\nhttps:/
 /jewishnh.org/community-calendar/purim-service--dinner-1582842573\n\nPurim
  service and dinner
DTSTART;TZID=America/New_York:20200309T180000
DTEND;TZID=America/New_York:20200309T210000
END:VEVENT
END:VCALENDAR
