BEGIN:VCALENDAR
PRODID:-//eluceo/ical//2.0/EN
VERSION:2.0
CALSCALE:GREGORIAN
BEGIN:VEVENT
UID:e3bca5b7b8f6e2e424772771428c6114
DTSTAMP:20260423T232538Z
SUMMARY:Temple Israel Purim Service & Dinner
DESCRIPTION:Jewish Federation of New Hampshire\nCommunity Calendar\nhttps:/
 /jewishnh.org/community-calendar/purim-service--dinner-1705607530\n\nIt's 
 party time! RSVP required by noon on March 12.\, Please visit our webpage 
 at www.templeisraelmht.org for more info and RSVP link.
DTSTART;TZID=America/New_York:20240323T180000
DTEND;TZID=America/New_York:20240323T200000
END:VEVENT
END:VCALENDAR
