BEGIN:VCALENDAR
PRODID:-//eluceo/ical//2.0/EN
VERSION:2.0
CALSCALE:GREGORIAN
BEGIN:VEVENT
UID:959bdf24c1f892e22f048bbdb9027bbc
DTSTAMP:20260425T111536Z
SUMMARY:Temple Beth Jacob Purim Service
DESCRIPTION:Jewish Federation of New Hampshire\nCommunity Calendar\nhttps:/
 /jewishnh.org/community-calendar/purim-service-1583161485\n\nPurim service
  with partial Megillah reading
DTSTART;TZID=America/New_York:20200309T180000
DTEND;TZID=America/New_York:20200309T200000
END:VEVENT
END:VCALENDAR
