BEGIN:VCALENDAR
PRODID:-//eluceo/ical//2.0/EN
VERSION:2.0
CALSCALE:GREGORIAN
BEGIN:VEVENT
UID:3399c56eaf9b2c1d55a93d435a834a19
DTSTAMP:20260424T192308Z
SUMMARY:Betenu Purim Service
DESCRIPTION:Jewish Federation of New Hampshire\nCommunity Calendar\nhttps:/
 /jewishnh.org/community-calendar/purim-service-1613428429\n\nVirtual Purim
  service.
DTSTART;TZID=America/New_York:20210226T193000
DTEND;TZID=America/New_York:20210226T203000
END:VEVENT
END:VCALENDAR
