BEGIN:VCALENDAR
PRODID:-//eluceo/ical//2.0/EN
VERSION:2.0
CALSCALE:GREGORIAN
BEGIN:VEVENT
UID:7ff07e76c69b799abeb690f5959896be
DTSTAMP:20260422T230507Z
SUMMARY:Betenu Purim Service
DESCRIPTION:Jewish Federation of New Hampshire\nCommunity Calendar\nhttps:/
 /jewishnh.org/community-calendar/purim-service-1708696748\n\nThis event is
  hybrid.  Join us at Betenu or on Zoom.
DTSTART;TZID=America/New_York:20240222T070000
DTEND;TZID=America/New_York:20240222T083000
END:VEVENT
END:VCALENDAR
