BEGIN:VCALENDAR
PRODID:-//eluceo/ical//2.0/EN
VERSION:2.0
CALSCALE:GREGORIAN
BEGIN:VEVENT
UID:7d991527fe41d691795f914871e4d3a4
DTSTAMP:20260423T145136Z
SUMMARY:Purim Shpiel at TAY
DESCRIPTION:Jewish Federation of New Hampshire\nCommunity Calendar\nhttps:/
 /jewishnh.org/community-calendar/purim-shpiel-at-tay-1560686672\n\nPurim S
 hpiel at TAY
DTSTART;TZID=America/New_York:20200306T190000
DTEND;TZID=America/New_York:20200306T210000
END:VEVENT
END:VCALENDAR
