BEGIN:VCALENDAR
PRODID:-//eluceo/ical//2.0/EN
VERSION:2.0
CALSCALE:GREGORIAN
BEGIN:VEVENT
UID:1558231633deafafda4d2527e6136d18
DTSTAMP:20260423T124222Z
SUMMARY:Temple Adath Yeshrun Purim Spiel
DESCRIPTION:Jewish Federation of New Hampshire\nCommunity Calendar\nhttps:/
 /jewishnh.org/community-calendar/purim-spiel-1706640374\n\nTemple Adath Ye
 shurun will celebrate Purim with our Annual Purim Spiel.\nThe Story of Pur
 im told in song.
DTSTART;TZID=America/New_York:20240322T190000
DTEND;TZID=America/New_York:20240322T210000
END:VEVENT
END:VCALENDAR
