BEGIN:VCALENDAR
PRODID:-//eluceo/ical//2.0/EN
VERSION:2.0
CALSCALE:GREGORIAN
BEGIN:VEVENT
UID:ce876ab499eca2070c9d82ca32d2c434
DTSTAMP:20260424T085940Z
SUMMARY:PURIM WITH A TWIST! Student party
DESCRIPTION:Jewish Federation of New Hampshire\nCommunity Calendar\nhttps:/
 /jewishnh.org/community-calendar/purim-with-a-twist-student-party-15832967
 14\n\nStudents attention!Chabad and Hillel @ UNH invites you to join us fo
 r a awesome Purim with a TWIST themed Purim Celebration on Monday March 9t
 h 7:00pm** Interactive Megila Reading with a multi media presentation. ** 
 Pizza Buffet ** Hamantashen & Purim treats ** Graggers & Purim fun ** Puri
 m costumes ** Music & lots more **LechaimFree of charge!! Students party! 
 RSVP at Jewishseacoast.com/twist Co-Sponsors  -UNH HILLEL  -CJSGRSVP requi
 red at Jewishseacoast.com/TwistFeel free to share and invit...
DTSTART;TZID=America/New_York:20200309T190000
DTEND;TZID=America/New_York:20200309T210000
END:VEVENT
END:VCALENDAR
