BEGIN:VCALENDAR
PRODID:-//eluceo/ical//2.0/EN
VERSION:2.0
CALSCALE:GREGORIAN
BEGIN:VEVENT
UID:1e4ae4097afe0fc5d6fdcca12bbf7b74
DTSTAMP:20260422T154025Z
SUMMARY:Purim
DESCRIPTION:Jewish Federation of New Hampshire\nCommunity Calendar\nhttps:/
 /jewishnh.org/community-calendar/purim2024\n\nPurim is a Jewish holiday wh
 ich commemorates the saving of the Jewish people from annihilation at the 
 hands of an official of the Achaemenid Empire named Haman\, as it is recou
 nted in the Book of Esther. Haman was the royal vizier to the Persian king
  Ahasuerus.
DTSTART;TZID=America/New_York:20240323T000000
DTEND;TZID=America/New_York:20240324T235959
END:VEVENT
END:VCALENDAR
