BEGIN:VCALENDAR
PRODID:-//eluceo/ical//2.0/EN
VERSION:2.0
CALSCALE:GREGORIAN
BEGIN:VEVENT
UID:0a2e460b6063c9ff0952a57d47e0660d
DTSTAMP:20260424T095946Z
SUMMARY:Ra'anan's Good Bye Celebration
DESCRIPTION:Jewish Federation of New Hampshire\nCommunity Calendar\nhttps:/
 /jewishnh.org/community-calendar/raanans-good-bye-celebration\n\nStop by t
 he JFNH office any time between 2p-4p to say good bye to JFNH Shaliach Ra'
 anan de-Haas before he finishes his time here in New Hampshire and begins 
 his next journey.\n\nLight refreshments will be served.
DTSTART;TZID=America/New_York:20230625T140000
DTEND;TZID=America/New_York:20230625T160000
END:VEVENT
END:VCALENDAR
