BEGIN:VCALENDAR
PRODID:-//eluceo/ical//2.0/EN
VERSION:2.0
CALSCALE:GREGORIAN
BEGIN:VEVENT
UID:a3e90d797cd93a002fe3c218d00c608b
DTSTAMP:20260423T152259Z
SUMMARY:"Raise the Roof: Poland Synagogue Restoration" Breakfast
DESCRIPTION:Jewish Federation of New Hampshire\nCommunity Calendar\nhttps:/
 /jewishnh.org/community-calendar/raise-the-roof-poland-synagogue-restorati
 on-breakfast-1565715516\n\nPresented by the Southern NH Jewish Men's Club 
 and the Lifelong Learning Committee.\n\nLearn about the restoration of an 
 old synagogue in Poland that was installed in the Polish Jewish Museum in 
 Warsaw. Presenters will include professors from the Massachusetts College 
 of Art.\n\nYou can see the restoration documented in the PBS documentary "
 Raise The Roof".\n\nReservation are recommended but not required. The rese
 rvation email is: breakfastrsvp@snhjmc.org\n\nMen's club members and fami
 ly cos...
DTSTART;TZID=America/New_York:20190915T093000
DTEND;TZID=America/New_York:20190915T110000
END:VEVENT
END:VCALENDAR
