BEGIN:VCALENDAR
PRODID:-//eluceo/ical//2.0/EN
VERSION:2.0
CALSCALE:GREGORIAN
BEGIN:VEVENT
UID:60595a7465d349a3f62a9d932ae47ad1
DTSTAMP:20260424T210401Z
SUMMARY:“Reaching our Peak Potential”
DESCRIPTION:Jewish Federation of New Hampshire\nCommunity Calendar\nhttps:/
 /jewishnh.org/community-calendar/reaching-our-peak-potential-1704897483\n\
 nDuring two short but significant weeks in 1989\, a devastating neurologic
 al disease transformed Randy Pierce from a healthy\, ordinary young man to
  a blind man\, completely uncertain of his future.   Since those two weeks
  in 1989 Randy has earned his second-degree Karate black belt\; achieved h
 istoric hiking accomplishments from the White Mountains of New Hampshire t
 o the summit of Mount Kilimanjaro in Africa\; won two national marathon ch
 ampionships\; completed several Tough Mudder events\; and was...
DTSTART;TZID=America/New_York:20240211T093000
DTEND;TZID=America/New_York:20240211T113000
END:VEVENT
END:VCALENDAR
