BEGIN:VCALENDAR
PRODID:-//eluceo/ical//2.0/EN
VERSION:2.0
CALSCALE:GREGORIAN
BEGIN:VEVENT
UID:517e3625e06c37b0a11a9ea11218048c
DTSTAMP:20260423T013939Z
SUMMARY:Reading of the Names of Holocaust Victims
DESCRIPTION:Jewish Federation of New Hampshire\nCommunity Calendar\nhttps:/
 /jewishnh.org/community-calendar/reading-of-the-names-of-holocaust-victims
 \n\nReading of the Names of Holocaust Victims\n\n11 AM – 1 PM\, Eagle Sq
 uare\, Main Street\, Concord (Near the Clock Tower)\n\nThis event will hap
 pen rain or shine. The Greater Concord Interfaith Council is sponsoring th
 is event to commemorate Holocaust Remembrance Week
DTSTART;TZID=America/New_York:20180416T110000
DTEND;TZID=America/New_York:20180416T130000
END:VEVENT
END:VCALENDAR
