BEGIN:VCALENDAR
PRODID:-//eluceo/ical//2.0/EN
VERSION:2.0
CALSCALE:GREGORIAN
BEGIN:VEVENT
UID:8ee295e7b6c7d229428ce5169e260df2
DTSTAMP:20260422T111116Z
SUMMARY:Real Estate Virtual Road Trip to Israel
DESCRIPTION:Jewish Federation of New Hampshire\nCommunity Calendar\nhttps:/
 /jewishnh.org/community-calendar/real-estate-virtual-road-trip-to-israel-1
 635352017\n\nJoin Jewish National Fund-USA and real estate professionals f
 rom coast to coast for an inside look at the Israeli real estate market an
 d for a virtual tour exploring some of JNF-USA’s major infrastructure in
  Israel.
DTSTART;TZID=America/New_York:20211111T180000
DTEND;TZID=America/New_York:20211111T190000
END:VEVENT
END:VCALENDAR
