BEGIN:VCALENDAR
PRODID:-//eluceo/ical//2.0/EN
VERSION:2.0
CALSCALE:GREGORIAN
BEGIN:VEVENT
UID:eafb34e2961b089febcda0a09f618269
DTSTAMP:20260422T203514Z
SUMMARY:POSTPONED: Recipe with a Memory - Portsmouth
DESCRIPTION:Jewish Federation of New Hampshire\nCommunity Calendar\nhttps:/
 /jewishnh.org/community-calendar/recipe-with-a-memory-portsmouth\n\nPlease
  note\, this event has been postponed to a later date. Contact the Jewish 
 Federation of New Hampshire with questions: dinah.berch@jewishnh.org​.\
 n\n\nRecipe with a memory is a unique way to remember a fallen Israeli sol
 dier by cooking their favorite dish and learning about their story. \n\nT
 his program is offered in two locations:\n1. Temple Israel Portsmouth on M
 ay 3rd @ 7PM\n2. Temple B'nai Israel\, Laconia on May 4th @ 7PM\n\nThere i
 s 10$ per person charge \n\nThis year we will ma...
DTSTART;TZID=America/New_York:20220503T190000
DTEND;TZID=America/New_York:20220503T200000
END:VEVENT
END:VCALENDAR
