BEGIN:VCALENDAR
PRODID:-//eluceo/ical//2.0/EN
VERSION:2.0
CALSCALE:GREGORIAN
BEGIN:VEVENT
UID:a4dc472a031e404ecf7bc2300ca6ec08
DTSTAMP:20260422T065155Z
SUMMARY:CANCELLED - Recipe with a Memory - Portsmouth
DESCRIPTION:Jewish Federation of New Hampshire\nCommunity Calendar\nhttps:/
 /jewishnh.org/community-calendar/recipe-with-a-memory-portsmouth-reschedul
 ed\n\nUnfortunately\, this event has been CANCELLED\n\n-------------------
 -------------------------------------------------\n\nRecipe with a memory 
 is a unique way to remember a fallen Israeli soldier by cooking their favo
 rite dish and learning about their story. \n\nThere is 10$ per person cha
 rge \n\nThis year we will make home made pizza to remember Ronen Hayoun.\
 n**There will not be a gluten free option\n\nThe in person events will fol
 low the following Covid protocols:\n1. Masks will be require...
DTSTART;TZID=America/New_York:20220622T190000
DTEND;TZID=America/New_York:20220622T203000
END:VEVENT
END:VCALENDAR
