BEGIN:VCALENDAR
PRODID:-//eluceo/ical//2.0/EN
VERSION:2.0
CALSCALE:GREGORIAN
BEGIN:VEVENT
UID:50d68d8fdfc59a010a439624d0afd4e2
DTSTAMP:20260422T061328Z
SUMMARY:Reckoning with the Past: The Arolsen Archives and Transitional Just
 ice
DESCRIPTION:Jewish Federation of New Hampshire\nCommunity Calendar\nhttps:/
 /jewishnh.org/community-calendar/reckoning-with-the-past-the-arolsen-archi
 ves-and-transitional-justice-1768921454\n\nTuesday\, March 03\, 2026 · 12
 :00 p.m. - 1:00 p.m. | Zoom Webinar\n\n\nThe Arolsen Archives (formerly t
 he International Tracing Service) was established in 1948 in order to docu
 ment the crimes committed by the National Socialists and the fates of the 
 victims. For decades\, this organization has helped relatives of victims f
 ind answers about the fates of their loved ones\, helped survivors establi
 sh their eligibility for compensation\, and more. Today\, the Arolsen Arch
 ives contain the largest glo...
DTSTART;TZID=America/New_York:20260303T120000
DTEND;TZID=America/New_York:20260303T130000
END:VEVENT
END:VCALENDAR
