BEGIN:VCALENDAR
PRODID:-//eluceo/ical//2.0/EN
VERSION:2.0
CALSCALE:GREGORIAN
BEGIN:VEVENT
UID:f6479e1b5ab23bc5f14c50f8ce52b9b5
DTSTAMP:20260421T234105Z
SUMMARY:Reflected Light: Your Grandmother\, Mother\, and You
DESCRIPTION:Jewish Federation of New Hampshire\nCommunity Calendar\nhttps:/
 /jewishnh.org/community-calendar/reflected-light-your-grandmother-mother-a
 nd-you-1668126319\n\nTemple Israel Portsmouth congregant and published aut
 hor Sandell Morse will lead a creative writing group\, exploring our mater
 nal inheritance through writing. Please join us in person in the Temple Is
 rael social hall for two Sunday morning sessions\, on December 4 and Decem
 ber 11.\n\nSandell Morse is the author of "The Spiral Shell. " This memoir
  unfolds as a double journey\, one outward in which Sandell uncovers long-
 silenced stories of courage and resistance in a village in southwest Franc
 e\, ...
DTSTART;TZID=America/New_York:20221204T100000
DTEND;TZID=America/New_York:20221204T120000
END:VEVENT
END:VCALENDAR
