BEGIN:VCALENDAR
PRODID:-//eluceo/ical//2.0/EN
VERSION:2.0
CALSCALE:GREGORIAN
BEGIN:VEVENT
UID:1720196767251baf7e8bbdb3be2e768d
DTSTAMP:20260423T201621Z
SUMMARY:Remembering to Remember: Memorial Monuments and the Holocaust
DESCRIPTION:Jewish Federation of New Hampshire\nCommunity Calendar\nhttps:/
 /jewishnh.org/community-calendar/remembering-to-remember-memorial-monument
 s-and-the-holocaust-1768921824\n\nRemembering to Remember: What Memorial M
 onuments Teach Us About the Holocaust (and Ourselves)\n\nZoom Webinar\n\nM
 onday\, April 13\, 2026 · 6:00 p.m. - 7:00 p.m.\n\nSummary:\nSince the en
 d of World War II Holocaust memorial monuments have been made in scores of
  shapes\, sizes\, forms\, and with text in many languages. Initially desig
 ned for Jewish audiences\, and then in more recent decades for a wider pub
 lic\, they are often intended to teach broader lessons or meet political o
 bjectives. Given the...
DTSTART;TZID=America/New_York:20260413T180000
DTEND;TZID=America/New_York:20260413T190000
END:VEVENT
END:VCALENDAR
