BEGIN:VCALENDAR
PRODID:-//eluceo/ical//2.0/EN
VERSION:2.0
CALSCALE:GREGORIAN
BEGIN:VEVENT
UID:baade250f844b75b227b5580a3402f63
DTSTAMP:20260424T171057Z
SUMMARY:Resin & Rosé
DESCRIPTION:Jewish Federation of New Hampshire\nCommunity Calendar\nhttps:/
 /jewishnh.org/community-calendar/resin--ros-1701180924\n\nGet ready to ign
 ite your creativity at the most thrilling women's event of the season! \n\
 nJoin us for an electrifying Chanukah-themed resin menorah-making extravag
 anza\, where we'll craft stunning menorahs and savor the finest rosé. It'
 s going to be a night to remember! \nRegister at Jewishseacoast.com/Jwc
DTSTART;TZID=America/New_York:20231130T180000
DTEND;TZID=America/New_York:20231130T200000
END:VEVENT
END:VCALENDAR
