BEGIN:VCALENDAR
PRODID:-//eluceo/ical//2.0/EN
VERSION:2.0
CALSCALE:GREGORIAN
BEGIN:VEVENT
UID:e624bc37869c32dc58115dd9255ac157
DTSTAMP:20260422T180741Z
SUMMARY:Responding to  Bias incidents by our Youth Online event
DESCRIPTION:Jewish Federation of New Hampshire\nCommunity Calendar\nhttps:/
 /jewishnh.org/community-calendar/responding-to--bias-incidents-by-our-yout
 h-online-event-1667851841\n\nJoin us on Zoom as we explore and discuss rec
 ent incidents of dehumanizing speech\, racism\, and bias incidents involvi
 ng our youth\, and how interfaith leaders can be equipped to respond. What
  should we do as people of faith when such situations arise? We will hear 
 from a panel of interfaith voices\, and participate in community conversat
 ion.\n\nRegister here:...
DTSTART;TZID=America/New_York:20221120T160000
DTEND;TZID=America/New_York:20221120T173000
END:VEVENT
END:VCALENDAR
