BEGIN:VCALENDAR
PRODID:-//eluceo/ical//2.0/EN
VERSION:2.0
CALSCALE:GREGORIAN
BEGIN:VEVENT
UID:67a90fabdafe9a0174ee8dac3d799471
DTSTAMP:20260423T054249Z
SUMMARY:Temple Israel Portsmouth Rosh Chodesh Gathering
DESCRIPTION:Jewish Federation of New Hampshire\nCommunity Calendar\nhttps:/
 /jewishnh.org/community-calendar/rosh-chodesh-gathering-1689015527\n\nPlea
 se join Temple Israel Portsmouth's Sisterhood members in welcoming the mon
 th of Elul.\n\n6:30 - 7:15 pm: Dairy / pareve / vegetarian potluck in the 
 Social Hall\n\n7:30 - 8:30 pm: program in the Chapel
DTSTART;TZID=America/New_York:20230816T183000
DTEND;TZID=America/New_York:20230816T203000
END:VEVENT
END:VCALENDAR
