BEGIN:VCALENDAR
PRODID:-//eluceo/ical//2.0/EN
VERSION:2.0
CALSCALE:GREGORIAN
BEGIN:VEVENT
UID:f661df7a108fe53f01dcd4a7414ff2d3
DTSTAMP:20260424T003611Z
SUMMARY:Rosh Hashana Services at Temple B'nai Israel
DESCRIPTION:Jewish Federation of New Hampshire\nCommunity Calendar\nhttps:/
 /jewishnh.org/community-calendar/rosh-hashana-services-1628041404\n\nVisit
  the TBI website for complete information.
DTSTART;TZID=America/New_York:20210907T100000
DTEND;TZID=America/New_York:20210907T120000
END:VEVENT
END:VCALENDAR
