BEGIN:VCALENDAR
PRODID:-//eluceo/ical//2.0/EN
VERSION:2.0
CALSCALE:GREGORIAN
BEGIN:VEVENT
UID:dd60f54444167d32afe1f69c0b3c0d43
DTSTAMP:20260422T045543Z
SUMMARY:Rosh Hashana Services at Temple B'nai Israel
DESCRIPTION:Jewish Federation of New Hampshire\nCommunity Calendar\nhttps:/
 /jewishnh.org/community-calendar/rosh-hashana-services-1628041583\n\nTempl
 e B'nai Israel offers hybrid High Holiday services\, with attendance in-pe
 rson or on Zoom.
DTSTART;TZID=America/New_York:20210908T100000
DTEND;TZID=America/New_York:20210908T120000
END:VEVENT
END:VCALENDAR
