BEGIN:VCALENDAR
PRODID:-//eluceo/ical//2.0/EN
VERSION:2.0
CALSCALE:GREGORIAN
BEGIN:VEVENT
UID:488698fc8304cd560a48ecc9777dcb95
DTSTAMP:20260423T163530Z
SUMMARY:Rosh Hashanah
DESCRIPTION:Jewish Federation of New Hampshire\nCommunity Calendar\nhttps:/
 /jewishnh.org/community-calendar/rosh-hashanah\n\nBegins sunset Sunday\, 
 September 25\, 2022\nEnds evening Tuesday\, September 27\, 2022
DTSTART;TZID=America/New_York:20220925T000000
DTEND;TZID=America/New_York:20220927T235959
END:VEVENT
END:VCALENDAR
