BEGIN:VCALENDAR
PRODID:-//eluceo/ical//2.0/EN
VERSION:2.0
CALSCALE:GREGORIAN
BEGIN:VEVENT
UID:adf93a6022f02a5acad67c4111e7679f
DTSTAMP:20260423T120523Z
SUMMARY:Rosh Hashanah
DESCRIPTION:Jewish Federation of New Hampshire\nCommunity Calendar\nhttps:/
 /jewishnh.org/community-calendar/rosh-hashanah-2023\n\nBegins sunset Frid
 ay\, September 15\, 2023\nEnds evening Sunday\, September 17\, 2023
DTSTART;TZID=America/New_York:20230915T160000
DTEND;TZID=America/New_York:20230917T190000
END:VEVENT
END:VCALENDAR
