BEGIN:VCALENDAR
PRODID:-//eluceo/ical//2.0/EN
VERSION:2.0
CALSCALE:GREGORIAN
BEGIN:VEVENT
UID:fc1fea3b9ea750c342315051f60a8055
DTSTAMP:20260424T033650Z
SUMMARY:Rosh Hashanah Morning Service at Congregation Betenu
DESCRIPTION:Jewish Federation of New Hampshire\nCommunity Calendar\nhttps:/
 /jewishnh.org/community-calendar/rosh-hashanah-morning-service-1628091075\
 n\nThis service will be held at Betenu and will also be available virtuall
 y.
DTSTART;TZID=America/New_York:20210907T103000
DTEND;TZID=America/New_York:20210907T120000
END:VEVENT
END:VCALENDAR
