BEGIN:VCALENDAR
PRODID:-//eluceo/ical//2.0/EN
VERSION:2.0
CALSCALE:GREGORIAN
BEGIN:VEVENT
UID:724cb532ccc0aee81a6c96186faf8313
DTSTAMP:20260422T024143Z
SUMMARY:Temple Israel Rosh Hodesh
DESCRIPTION:Jewish Federation of New Hampshire\nCommunity Calendar\nhttps:/
 /jewishnh.org/community-calendar/rosh-hodesh-1697128808\n\nFor women who w
 ant to study\, sing\, develop rituals\, schmooze and share\, and explore t
 heir Jewish heritage.\nRosh Hodesh is open to sisters of spirit. Please sh
 are the invitation
DTSTART;TZID=America/New_York:20231022T123000
DTEND;TZID=America/New_York:20231022T133000
END:VEVENT
END:VCALENDAR
