BEGIN:VCALENDAR
PRODID:-//eluceo/ical//2.0/EN
VERSION:2.0
CALSCALE:GREGORIAN
BEGIN:VEVENT
UID:39622a153f0c00bb61941be75cb61c81
DTSTAMP:20260422T103752Z
SUMMARY:Saturday Night at the Movies:  The CAA Movie Club shows "A Serious 
 Man"
DESCRIPTION:Jewish Federation of New Hampshire\nCommunity Calendar\nhttps:/
 /jewishnh.org/community-calendar/saturday-night-at-the-movies--the-caa-mov
 ie-club-shows-a-serious-man-1565377547\n\nFree to CAA members. Nonmembers 
 are asked to contribute $5 per person to defray the cost of refreshments a
 nd movie rental.
DTSTART;TZID=America/New_York:20190914T190000
DTEND;TZID=America/New_York:20190914T210000
END:VEVENT
END:VCALENDAR
