BEGIN:VCALENDAR
PRODID:-//eluceo/ical//2.0/EN
VERSION:2.0
CALSCALE:GREGORIAN
BEGIN:VEVENT
UID:c993846ded86eaecc5133cf037d9df60
DTSTAMP:20260422T074856Z
SUMMARY:Saturday Night Live from Shushan
DESCRIPTION:Jewish Federation of New Hampshire\nCommunity Calendar\nhttps:/
 /jewishnh.org/community-calendar/saturday-night-live-from-shushan-16441830
 29\n\nContact Etz Hayim Synagogue at 432-0004 or office@etzhayim.org for t
 he Zoom link. Bring your own hamantaschen.
DTSTART;TZID=America/New_York:20220319T190000
DTEND;TZID=America/New_York:20220319T200000
END:VEVENT
END:VCALENDAR
