BEGIN:VCALENDAR
PRODID:-//eluceo/ical//2.0/EN
VERSION:2.0
CALSCALE:GREGORIAN
BEGIN:VEVENT
UID:c16a6bab4d2cf8e39182d30354a17603
DTSTAMP:20260423T203707Z
SUMMARY:Temple Israel Shabbat Service & Dinner
DESCRIPTION:Jewish Federation of New Hampshire\nCommunity Calendar\nhttps:/
 /jewishnh.org/community-calendar/saturday-shabbat-service--dinner-17108823
 99\n\nTraditional Shabbat service and community meal.
DTSTART;TZID=America/New_York:20240405T180000
DTEND;TZID=America/New_York:20240405T200000
END:VEVENT
END:VCALENDAR
