BEGIN:VCALENDAR
PRODID:-//eluceo/ical//2.0/EN
VERSION:2.0
CALSCALE:GREGORIAN
BEGIN:VEVENT
UID:14c23e99ad784c1bf1140e271ae1dc7b
DTSTAMP:20260423T152435Z
SUMMARY:SAVE THE DATE: Shir Jazz Silent Auction & Benefit Featuring Noam Wo
 lf
DESCRIPTION:Jewish Federation of New Hampshire\nCommunity Calendar\nhttps:/
 /jewishnh.org/community-calendar/save-the-date-shir-jazz-silent-auction--b
 enefit-featuring-noam-wolf-1573680105\n\nSave the date! Noam Wolf & Avi Ra
 faelov return for the Biggest Musical event of the year! Stay tuned for de
 tails and secure your tickets early!
DTSTART;TZID=America/New_York:20190517T000000
DTEND;TZID=America/New_York:20190518T000000
END:VEVENT
END:VCALENDAR
