BEGIN:VCALENDAR
PRODID:-//eluceo/ical//2.0/EN
VERSION:2.0
CALSCALE:GREGORIAN
BEGIN:VEVENT
UID:592abc7759c938e0ab77e0c795315b82
DTSTAMP:20260424T000000Z
SUMMARY:Schmooze & Schmear with Rabbi Marc
DESCRIPTION:Jewish Federation of New Hampshire\nCommunity Calendar\nhttps:/
 /jewishnh.org/community-calendar/schmooze--schmear-with-rabbi-marc-1697127
 915\n\nJoin Rabbi Marc and TI members for conversation\, coffee and commun
 ity.
DTSTART;TZID=America/New_York:20231015T100000
DTEND;TZID=America/New_York:20231015T133000
END:VEVENT
END:VCALENDAR
