BEGIN:VCALENDAR
PRODID:-//eluceo/ical//2.0/EN
VERSION:2.0
CALSCALE:GREGORIAN
BEGIN:VEVENT
UID:a4c282bb493aff80800ac8ab294ab3f3
DTSTAMP:20260423T013442Z
SUMMARY:Schmooze Time!
DESCRIPTION:Jewish Federation of New Hampshire\nCommunity Calendar\nhttps:/
 /jewishnh.org/community-calendar/schmooze-time-1581358241\n\nJoin us for o
 ur famous Sunday Breakfast and SCHMOOZE TIME! Come catch up with old frien
 ds\, make new friends and enjoy our company and conversation together. Cos
 t for our Famous Sunday Breakfast is $8.00 for Men’s Club members and $1
 2 for non-members. New members are always welcome to join at the door! For
  more information\, and to RSVP for breakfast (please)\, email breakfastrs
 vp@snhjmc.org.
DTSTART;TZID=America/New_York:20200322T093000
DTEND;TZID=America/New_York:20200322T113000
END:VEVENT
END:VCALENDAR
