BEGIN:VCALENDAR
PRODID:-//eluceo/ical//2.0/EN
VERSION:2.0
CALSCALE:GREGORIAN
BEGIN:VEVENT
UID:0b23cd4102bdf241656532579af4dfe4
DTSTAMP:20260422T124309Z
SUMMARY:Scholar in Residence Shabbaton: Exploring Jewish Views of the After
 life
DESCRIPTION:Jewish Federation of New Hampshire\nCommunity Calendar\nhttps:/
 /jewishnh.org/community-calendar/scholar-in-residence-shabbaton-exploring-
 jewish-views-of-the-afterlife-1681158751\n\nTemple Israel Portsmouth is pl
 eased to welcome Reb Simcha Raphael\, Ph.D.\, to lead a weekend's explorat
 ion of Jewish views of the afterlife. Register on the website calendar for
  any one or all three sessions\, which will focus on text study of Torah\,
  Talmud\, Midrash\, Zohar and otherworldly tales from Hasidism and Yiddish
  folk literature. We shall also reflect on how ideas about life after deat
 h impact our contemporary attitudes toward death and loss.\n\nShabbaton Sc
 hedule:\n\nFriday\, June 9\n6:...
DTSTART;TZID=America/New_York:20230609T190000
DTEND;TZID=America/New_York:20230609T203000
END:VEVENT
END:VCALENDAR
