BEGIN:VCALENDAR
PRODID:-//eluceo/ical//2.0/EN
VERSION:2.0
CALSCALE:GREGORIAN
BEGIN:VEVENT
UID:27f42c088ec0d2a121bd618be36ba809
DTSTAMP:20260424T061348Z
SUMMARY:School and Yedidim Shabbat Dinner and Service
DESCRIPTION:Jewish Federation of New Hampshire\nCommunity Calendar\nhttps:/
 /jewishnh.org/community-calendar/school-and-yedidim-shabbat-dinner-and-ser
 vice-1576869647\n\nAll of our students\, from Yedidim Family Sunday School
  through Grade 7\, lead us in a special version of the Friday night Shabba
 t service!\n\nWe hope you’ll join us for Shabbat dinner as well — brea
 ded chicken and the works.\n\n$8 adults\, $4 children 4-13\, 3 and under f
 ree.\n\nPlease RSVP here: https://www.tbanashua.org/event/school-and-yedid
 im-shabbat-dinner-and-service.html
DTSTART;TZID=America/New_York:20200110T173000
DTEND;TZID=America/New_York:20200110T190000
END:VEVENT
END:VCALENDAR
