BEGIN:VCALENDAR
PRODID:-//eluceo/ical//2.0/EN
VERSION:2.0
CALSCALE:GREGORIAN
BEGIN:VEVENT
UID:ceb4a551df9b24095e5ea13752e90c1e
DTSTAMP:20260422T134908Z
SUMMARY:Science of Sukkot
DESCRIPTION:Jewish Federation of New Hampshire\nCommunity Calendar\nhttps:/
 /jewishnh.org/community-calendar/science-of-sukkot-1664474923\n\nParticipa
 te in a science fair with stations: \nExperience the Lulav set through the
  five senses\, build garden beds at the ed. center\, explore helpful herbs
  right in our gardens\, learn about water conservation\, make Sukkah decor
 ations using natural materials\, explore solar energy science\, and how TB
 A is using it\, and more!
DTSTART;TZID=America/New_York:20221009T163000
DTEND;TZID=America/New_York:20221009T190000
END:VEVENT
END:VCALENDAR
