BEGIN:VCALENDAR
PRODID:-//eluceo/ical//2.0/EN
VERSION:2.0
CALSCALE:GREGORIAN
BEGIN:VEVENT
UID:0b419e5cc8ba32865320ca4d37bb781e
DTSTAMP:20260423T071702Z
SUMMARY:Scout Shabbat
DESCRIPTION:Jewish Federation of New Hampshire\nCommunity Calendar\nhttps:/
 /jewishnh.org/community-calendar/scout-shabbat-1546541021\n\nScout Shabbat
  - February 1\, 2019 at 7PM at Temple Emanu-El Haverhill\, MA.  Open to al
 l Girl Scouts\, Scouts BSA\, Boy Scouts\, Cub Scouts\, Venturers\, Daisies
 \, Brownies\, Juniors\, Cadets\, Seniors\, Ambassadors\, STEM Scouts\, & t
 heir families
DTSTART;TZID=America/New_York:20190201T190000
DTEND;TZID=America/New_York:20190201T203000
END:VEVENT
END:VCALENDAR
