BEGIN:VCALENDAR
PRODID:-//eluceo/ical//2.0/EN
VERSION:2.0
CALSCALE:GREGORIAN
BEGIN:VEVENT
UID:45db6cc23d35a4beca89b096dc77e45a
DTSTAMP:20260423T214010Z
SUMMARY:Scout Shabbat
DESCRIPTION:Jewish Federation of New Hampshire\nCommunity Calendar\nhttps:/
 /jewishnh.org/community-calendar/scout-shabbat-1579286968\n\nAll Scouts BS
 A\, Boy Scouts\, Cub Scouts\, Venturers\, Girl Scouts (Daisies through Amb
 assadors)\, STEM Scouts\, Sea Scouts\, & their families  are invited to at
 tend. The event is held at Temple Emanu-El\, 514 Main Street (Route 125) H
 averhill\, Massachusetts (2 minutes south of the NH/MA border just off Rou
 te 495\, take exit 51).  Please pre-register for this event before January
  31st\, 2020 by calling 603-382-5927 or by sending email to scouting@hantm
 an.net. There is no charge for this event.  Scouts...
DTSTART;TZID=America/New_York:20200207T190000
DTEND;TZID=America/New_York:20200207T210000
END:VEVENT
END:VCALENDAR
