BEGIN:VCALENDAR
PRODID:-//eluceo/ical//2.0/EN
VERSION:2.0
CALSCALE:GREGORIAN
BEGIN:VEVENT
UID:15e72947d408dcaa7ca1160f0c084821
DTSTAMP:20260422T175132Z
SUMMARY:Screening: Persona Non Grata
DESCRIPTION:Jewish Federation of New Hampshire\nCommunity Calendar\nhttps:/
 /jewishnh.org/community-calendar/screening-persona-non-grata\n\nScreening:
  Persona Non Grata\n\nThe true story of Japanese diplomat Chiune Sugihara\
 , posted in Lithuania\, who defied his country and saved 6\,000 Jews durin
 g the Holocaust. Suggested donation of $5-$10 at the door. The Greater Con
 cord Interfaith Council is sponsoring this event to commemorate Holocaust 
 Remembrance Week.
DTSTART;TZID=America/New_York:20180415T190000
DTEND;TZID=America/New_York:20180415T210000
END:VEVENT
END:VCALENDAR
