BEGIN:VCALENDAR
PRODID:-//eluceo/ical//2.0/EN
VERSION:2.0
CALSCALE:GREGORIAN
BEGIN:VEVENT
UID:1b81264bb154f993762140dc87184d75
DTSTAMP:20260422T112235Z
SUMMARY:Seacoast Outdoor Kabbalat Shabbat Service
DESCRIPTION:Jewish Federation of New Hampshire\nCommunity Calendar\nhttps:/
 /jewishnh.org/community-calendar/seacoast-outdoor-kabbalat-shabbat-service
 -1686310338\n\nPlease join Temple Israel at Strawbery Banke in Portsmouth 
 for three summer outdoor Kabbalat Shabbat services led by Rabba Kaya Stern
 -Kaufman. Bring a dairy / pareve / vegetarian picnic dinner and your own l
 awn chair. Services will be live streamed on the Temple Israel Facebook pa
 ge. In case of inclement weather\, services will be held in the sanctuary 
 and accessible via the usual Zoom link. Summer dates: June 30\, July 21\, 
 August 18\, 2023.
DTSTART;TZID=America/New_York:20230630T183000
DTEND;TZID=America/New_York:20230630T193000
END:VEVENT
END:VCALENDAR
