BEGIN:VCALENDAR
PRODID:-//eluceo/ical//2.0/EN
VERSION:2.0
CALSCALE:GREGORIAN
BEGIN:VEVENT
UID:124fb0b13f5ebf50c0fdb90c3bd911ce
DTSTAMP:20260422T225127Z
SUMMARY:Seacoast Teen Lounge Night
DESCRIPTION:Jewish Federation of New Hampshire\nCommunity Calendar\nhttps:/
 /jewishnh.org/community-calendar/seacoast-teen-lounge-night-1691693923\n\n
 Is your teen looking for something to do on a Wednesday night? Come hang o
 ut with Jewish teens from around the Seacoast for a casual lounge night at
  Temple Israel! Just a chance for teens to be teens with other Jewish kids
 . Activities will change from night to night\, join in for a movie\, a gam
 e night\, make some cool decorations for the Sukkah\, or just hang and cha
 t! Free and open to all Jewish teens\, includes pizza dinner!
DTSTART;TZID=America/New_York:20230927T180000
DTEND;TZID=America/New_York:20230927T200000
END:VEVENT
END:VCALENDAR
