BEGIN:VCALENDAR
PRODID:-//eluceo/ical//2.0/EN
VERSION:2.0
CALSCALE:GREGORIAN
BEGIN:VEVENT
UID:6e64b271125b6f25b6470ea9ff77f988
DTSTAMP:20260423T072751Z
SUMMARY:Seacoast Teen Summer Picnic
DESCRIPTION:Jewish Federation of New Hampshire\nCommunity Calendar\nhttps:/
 /jewishnh.org/community-calendar/seacoast-teen-summer-picnic-1683746509\n\
 nPlease join the Temple Israel Teen Group for a fun afternoon picnic with 
 snacks\, games\, and friends. Register via the temple event calendar for d
 irections to the Portsmouth venue and to receive weather-related updates. 
 Free and open to all Jewish teens.
DTSTART;TZID=America/New_York:20230625T123000
DTEND;TZID=America/New_York:20230625T133000
END:VEVENT
END:VCALENDAR
