BEGIN:VCALENDAR
PRODID:-//eluceo/ical//2.0/EN
VERSION:2.0
CALSCALE:GREGORIAN
BEGIN:VEVENT
UID:539bdab0382f439d416d97d10bbefcdb
DTSTAMP:20260423T203604Z
SUMMARY:"Second Friday" Musical Kabbalat Shabbat
DESCRIPTION:Jewish Federation of New Hampshire\nCommunity Calendar\nhttps:/
 /jewishnh.org/community-calendar/second-friday-musical-kabbalat-shabbat-4-
 13-18\n\n"Second Friday" Musical Kabbalat Shabbat service with special gue
 st musician Sue Horowitz\n \n\nMore information: 436-5301 or templeoffice
 @templeisraelnh.org
DTSTART;TZID=America/New_York:20180413T181500
DTEND;TZID=America/New_York:20180413T191500
END:VEVENT
END:VCALENDAR
