BEGIN:VCALENDAR
PRODID:-//eluceo/ical//2.0/EN
VERSION:2.0
CALSCALE:GREGORIAN
BEGIN:VEVENT
UID:b7145a9cd62af505be5da4deaf63b13b
DTSTAMP:20260422T162154Z
SUMMARY:Betenu Second Night of Hanukah Service and Party
DESCRIPTION:Jewish Federation of New Hampshire\nCommunity Calendar\nhttps:/
 /jewishnh.org/community-calendar/second-night-of-hanukah-service-and-party
 -1700519375\n\nThis event is hybrid.  Those wishing to attend on Zoom have
  the option of dropping off a gift at Betenu and then to get an online num
 ber for the gift swap\, if desired.
DTSTART;TZID=America/New_York:20231208T190000
DTEND;TZID=America/New_York:20231208T210000
END:VEVENT
END:VCALENDAR
