BEGIN:VCALENDAR
PRODID:-//eluceo/ical//2.0/EN
VERSION:2.0
CALSCALE:GREGORIAN
BEGIN:VEVENT
UID:4fc04574d90b3fa2d9edb41527e862a7
DTSTAMP:20260423T005911Z
SUMMARY:Seder Plates & Miracles
DESCRIPTION:Jewish Federation of New Hampshire\nCommunity Calendar\nhttps:/
 /jewishnh.org/community-calendar/seder-plates--miracles-1648487289\n\nRegi
 ster today for this fun event! Seacoast Jewish Women's Circle invites you 
 to Seder plates & Miracles! Paint a beautiful master piece to add to your 
 Passover Seder table while discovering the secret key to inviting miracles
  into your life. Couvert: $36  18th - Registration closes March 27th Stude
 nts Free RSVP @ JewishSeacoast.com/JWC
DTSTART;TZID=America/New_York:20220403T190000
DTEND;TZID=America/New_York:20220403T203000
END:VEVENT
END:VCALENDAR
