BEGIN:VCALENDAR
PRODID:-//eluceo/ical//2.0/EN
VERSION:2.0
CALSCALE:GREGORIAN
BEGIN:VEVENT
UID:e39c7fb57052a0846d829d96c3d3fca8
DTSTAMP:20260423T234052Z
SUMMARY:Selichot Interfaith Gathering: Encountering the Divine Image
DESCRIPTION:Jewish Federation of New Hampshire\nCommunity Calendar\nhttps:/
 /jewishnh.org/community-calendar/selichot-interfaith-gathering-encounterin
 g-the-divine-image-1660072117\n\nPlease join congregants from Temple Israe
 l and other members of the Portsmouth Ministerium for an interfaith commun
 ity-wide gathering at the African Burying Ground on Chestnut Street in Por
 tsmouth. Offerings of prayer\, poetry\, music\, and Selichot liturgy will 
 address the spiritual aspiration to recognize the Divine Image in every hu
 man being.
DTSTART;TZID=America/New_York:20220917T190000
DTEND;TZID=America/New_York:20220917T203000
END:VEVENT
END:VCALENDAR
