BEGIN:VCALENDAR
PRODID:-//eluceo/ical//2.0/EN
VERSION:2.0
CALSCALE:GREGORIAN
BEGIN:VEVENT
UID:5fd44dc1d7e539af4212e7f4d3fddb88
DTSTAMP:20260422T233513Z
SUMMARY:Etz Hayim Selichot Service
DESCRIPTION:Jewish Federation of New Hampshire\nCommunity Calendar\nhttps:/
 /jewishnh.org/community-calendar/selichot-service-1693413101\n\nAs we get 
 closer to Yom Kippur and are in the process of teshuva\, examining our liv
 es\, and turning from our mistakes\, we are asking G-d and those whom we m
 ay have transgressed for forgiveness\, Selichot arrives the Saturday night
  before Rosh Hashanah. Please join our community on September 9 as Rabbi L
 evy leads us in a look at the Book of Jonah. Yes\, it’s a whale of a sto
 ry\, but we will take a deeper dive into the story of this prophet and its
  meaningfulness for us.  Etz Hayim Synagogue is...
DTSTART;TZID=America/New_York:20230909T200000
DTEND;TZID=America/New_York:20230909T210000
END:VEVENT
END:VCALENDAR
